Package: enrichplot Version: 1.24.4 Command: /home/biocbuild/bbs-3.19-bioc/R/bin/R CMD check --install=check:enrichplot.install-out.txt --library=/home/biocbuild/bbs-3.19-bioc/R/site-library --timings enrichplot_1.24.4.tar.gz StartedAt: 2024-10-17 00:05:59 -0400 (Thu, 17 Oct 2024) EndedAt: 2024-10-17 00:08:55 -0400 (Thu, 17 Oct 2024) EllapsedTime: 175.4 seconds RetCode: 0 Status: OK CheckDir: enrichplot.Rcheck Warnings: 0