Package: enrichplot Version: 1.24.4 Command: /home/biocbuild/bbs-3.19-bioc/R/bin/R CMD build --keep-empty-dirs --no-resave-data enrichplot StartedAt: 2024-10-16 18:20:41 -0400 (Wed, 16 Oct 2024) EndedAt: 2024-10-16 18:21:06 -0400 (Wed, 16 Oct 2024) EllapsedTime: 25.0 seconds RetCode: 0 Status: OK PackageFile: enrichplot_1.24.4.tar.gz PackageFileSize: 107.2 KiB