Package: enrichplot Version: 1.24.0 Command: /Library/Frameworks/R.framework/Resources/bin/R CMD build --keep-empty-dirs --no-resave-data enrichplot StartedAt: 2024-06-09 16:34:00 -0400 (Sun, 09 Jun 2024) EndedAt: 2024-06-09 16:34:27 -0400 (Sun, 09 Jun 2024) EllapsedTime: 26.9 seconds RetCode: 0 Status: OK PackageFile: enrichplot_1.24.0.tar.gz PackageFileSize: 107.1 KiB