Package: enrichplot Version: 1.24.0 Command: /Library/Frameworks/R.framework/Resources/bin/R CMD check --install=check:enrichplot.install-out.txt --library=/Library/Frameworks/R.framework/Resources/library --no-vignettes --timings enrichplot_1.24.0.tar.gz StartedAt: 2024-06-10 14:42:54 -0400 (Mon, 10 Jun 2024) EndedAt: 2024-06-10 14:48:37 -0400 (Mon, 10 Jun 2024) EllapsedTime: 343.6 seconds RetCode: 0 Status: OK CheckDir: enrichplot.Rcheck Warnings: 0