Package: enrichplot Version: 1.24.0 Command: rm -rf enrichplot.buildbin-libdir && mkdir enrichplot.buildbin-libdir && /Users/biocbuild/BBS/utils/build-universal.sh enrichplot_1.24.0.tar.gz /Library/Frameworks/R.framework/Resources/bin/R enrichplot.buildbin-libdir StartedAt: 2024-06-11 11:05:08 -0400 (Tue, 11 Jun 2024) EndedAt: 2024-06-11 11:05:56 -0400 (Tue, 11 Jun 2024) EllapsedTime: 48.4 seconds RetCode: 0 Status: OK PackageFile: enrichplot_1.24.0.tgz PackageFileSize: 345.6 KiB