Package: enrichplot Version: 1.24.4 Command: /Library/Frameworks/R.framework/Resources/bin/R CMD build --keep-empty-dirs --no-resave-data enrichplot StartedAt: 2024-10-16 23:57:26 -0400 (Wed, 16 Oct 2024) EndedAt: 2024-10-16 23:57:56 -0400 (Wed, 16 Oct 2024) EllapsedTime: 30.3 seconds RetCode: 0 Status: OK PackageFile: enrichplot_1.24.4.tar.gz PackageFileSize: 107.1 KiB