Package: enrichplot Version: 1.24.4 Command: rm -rf enrichplot.buildbin-libdir && mkdir enrichplot.buildbin-libdir && /Users/biocbuild/BBS/utils/build-universal.sh enrichplot_1.24.4.tar.gz /Library/Frameworks/R.framework/Resources/bin/R enrichplot.buildbin-libdir StartedAt: 2024-10-18 18:20:26 -0400 (Fri, 18 Oct 2024) EndedAt: 2024-10-18 18:21:00 -0400 (Fri, 18 Oct 2024) EllapsedTime: 34.1 seconds RetCode: 0 Status: OK PackageFile: enrichplot_1.24.4.tgz PackageFileSize: 345 KiB