Package: enrichViewNet Version: 1.2.0 Command: chmod a+r enrichViewNet -R && F:\biocbuild\bbs-3.19-bioc\R\bin\R.exe CMD build --keep-empty-dirs --no-resave-data enrichViewNet StartedAt: 2024-06-26 18:36:28 -0400 (Wed, 26 Jun 2024) EndedAt: 2024-06-26 18:37:49 -0400 (Wed, 26 Jun 2024) EllapsedTime: 81.1 seconds RetCode: 0 Status: OK PackageFile: enrichViewNet_1.2.0.tar.gz PackageFileSize: 3.463 MiB