Package: enrichViewNet Version: 1.2.0 Command: rm -rf enrichViewNet.buildbin-libdir && mkdir enrichViewNet.buildbin-libdir && F:\biocbuild\bbs-3.19-bioc\R\bin\R.exe CMD INSTALL --build --library=enrichViewNet.buildbin-libdir enrichViewNet_1.2.0.tar.gz StartedAt: 2024-06-27 08:10:15 -0400 (Thu, 27 Jun 2024) EndedAt: 2024-06-27 08:10:55 -0400 (Thu, 27 Jun 2024) EllapsedTime: 39.6 seconds RetCode: 0 Status: OK PackageFile: enrichViewNet_1.2.0.zip PackageFileSize: 2.569 MiB