Package: enrichViewNet Version: 1.2.0 Command: /Library/Frameworks/R.framework/Resources/bin/R CMD build --keep-empty-dirs --no-resave-data enrichViewNet StartedAt: 2024-10-16 18:58:28 -0400 (Wed, 16 Oct 2024) EndedAt: 2024-10-16 19:01:03 -0400 (Wed, 16 Oct 2024) EllapsedTime: 154.4 seconds RetCode: 0 Status: OK PackageFile: enrichViewNet_1.2.0.tar.gz PackageFileSize: 4.473 MiB