Package: enrichViewNet Version: 1.2.0 Command: rm -rf enrichViewNet.buildbin-libdir && mkdir enrichViewNet.buildbin-libdir && /Users/biocbuild/BBS/utils/build-universal.sh enrichViewNet_1.2.0.tar.gz /Library/Frameworks/R.framework/Resources/bin/R enrichViewNet.buildbin-libdir StartedAt: 2024-06-10 00:16:53 -0400 (Mon, 10 Jun 2024) EndedAt: 2024-06-10 00:17:28 -0400 (Mon, 10 Jun 2024) EllapsedTime: 34.8 seconds RetCode: 0 Status: OK PackageFile: enrichViewNet_1.2.0.tgz PackageFileSize: 3.575 MiB