Package: enrichViewNet Version: 1.2.0 Command: rm -rf enrichViewNet.buildbin-libdir && mkdir enrichViewNet.buildbin-libdir && /Users/biocbuild/BBS/utils/build-universal.sh enrichViewNet_1.2.0.tar.gz /Library/Frameworks/R.framework/Resources/bin/R enrichViewNet.buildbin-libdir StartedAt: 2024-06-11 11:05:15 -0400 (Tue, 11 Jun 2024) EndedAt: 2024-06-11 11:06:08 -0400 (Tue, 11 Jun 2024) EllapsedTime: 52.4 seconds RetCode: 0 Status: OK PackageFile: enrichViewNet_1.2.0.tgz PackageFileSize: 3.572 MiB