Package: enrichTF Version: 1.20.0 Command: chmod a+r enrichTF -R && F:\biocbuild\bbs-3.19-bioc\R\bin\R.exe CMD build --keep-empty-dirs --no-resave-data enrichTF StartedAt: 2024-06-26 18:36:01 -0400 (Wed, 26 Jun 2024) EndedAt: 2024-06-26 18:39:09 -0400 (Wed, 26 Jun 2024) EllapsedTime: 187.5 seconds RetCode: 0 Status: OK PackageFile: enrichTF_1.20.0.tar.gz PackageFileSize: 1.445 MiB