Package: enrichTF Version: 1.20.0 Command: /home/biocbuild/bbs-3.19-bioc/R/bin/R CMD INSTALL enrichTF StartedAt: 2024-10-16 16:44:04 -0400 (Wed, 16 Oct 2024) EndedAt: 2024-10-16 16:44:54 -0400 (Wed, 16 Oct 2024) EllapsedTime: 49.9 seconds RetCode: 0 Status: OK