Package: enrichTF Version: 1.20.0 Command: /home/biocbuild/bbs-3.19-bioc/R/bin/R CMD check --install=check:enrichTF.install-out.txt --library=/home/biocbuild/bbs-3.19-bioc/R/site-library --timings enrichTF_1.20.0.tar.gz StartedAt: 2024-10-17 00:06:08 -0400 (Thu, 17 Oct 2024) EndedAt: 2024-10-17 00:12:32 -0400 (Thu, 17 Oct 2024) EllapsedTime: 383.7 seconds RetCode: 1 Status: ERROR CheckDir: enrichTF.Rcheck Warnings: NA