Package: enrichTF Version: 1.20.0 Command: /Library/Frameworks/R.framework/Resources/bin/R CMD INSTALL enrichTF StartedAt: 2024-10-16 16:46:16 -0400 (Wed, 16 Oct 2024) EndedAt: 2024-10-16 16:48:06 -0400 (Wed, 16 Oct 2024) EllapsedTime: 109.8 seconds RetCode: 0 Status: OK