Package: enrichTF Version: 1.20.0 Command: /Library/Frameworks/R.framework/Resources/bin/R CMD INSTALL enrichTF StartedAt: 2024-06-09 15:41:46 -0400 (Sun, 09 Jun 2024) EndedAt: 2024-06-09 15:42:52 -0400 (Sun, 09 Jun 2024) EllapsedTime: 66.0 seconds RetCode: 0 Status: OK