Package: enrichTF Version: 1.20.0 Command: rm -rf enrichTF.buildbin-libdir && mkdir enrichTF.buildbin-libdir && /Users/biocbuild/BBS/utils/build-universal.sh enrichTF_1.20.0.tar.gz /Library/Frameworks/R.framework/Resources/bin/R enrichTF.buildbin-libdir StartedAt: 2024-06-10 00:16:52 -0400 (Mon, 10 Jun 2024) EndedAt: 2024-06-10 00:18:01 -0400 (Mon, 10 Jun 2024) EllapsedTime: 69.9 seconds RetCode: 0 Status: OK PackageFile: enrichTF_1.20.0.tgz PackageFileSize: 1.587 MiB