Package: enrichTF Version: 1.20.0 Command: /home/biocbuild/R/R-beta-2024-04-15_r86425/bin/R CMD INSTALL enrichTF StartedAt: 2024-05-08 21:03:56 -0000 (Wed, 08 May 2024) EndedAt: 2024-05-08 21:05:03 -0000 (Wed, 08 May 2024) EllapsedTime: 66.3 seconds RetCode: 0 Status: OK