Package: enhancerHomologSearch Version: 1.10.0 Command: E:\biocbuild\bbs-3.19-bioc\R\bin\R.exe CMD INSTALL enhancerHomologSearch StartedAt: 2024-10-16 16:34:36 -0400 (Wed, 16 Oct 2024) EndedAt: 2024-10-16 16:41:14 -0400 (Wed, 16 Oct 2024) EllapsedTime: 398.5 seconds RetCode: 0 Status: OK