Package: enhancerHomologSearch Version: 1.10.0 Command: E:\biocbuild\bbs-3.19-bioc\R\bin\R.exe CMD check --no-multiarch --install=check:enhancerHomologSearch.install-out.txt --library=E:\biocbuild\bbs-3.19-bioc\R\library --no-vignettes --timings enhancerHomologSearch_1.10.0.tar.gz StartedAt: 2024-10-17 01:10:49 -0400 (Thu, 17 Oct 2024) EndedAt: 2024-10-17 01:44:00 -0400 (Thu, 17 Oct 2024) EllapsedTime: 1990.9 seconds RetCode: 0 Status: OK CheckDir: enhancerHomologSearch.Rcheck Warnings: 0