Package: enhancerHomologSearch Version: 1.10.0 Command: chmod a+r enhancerHomologSearch -R && F:\biocbuild\bbs-3.19-bioc\R\bin\R.exe CMD build --keep-empty-dirs --no-resave-data enhancerHomologSearch StartedAt: 2024-06-26 18:34:47 -0400 (Wed, 26 Jun 2024) EndedAt: 2024-06-26 19:02:39 -0400 (Wed, 26 Jun 2024) EllapsedTime: 1671.2 seconds RetCode: 0 Status: OK PackageFile: enhancerHomologSearch_1.10.0.tar.gz PackageFileSize: 1.043 MiB