Package: enhancerHomologSearch Version: 1.10.0 Command: /Library/Frameworks/R.framework/Resources/bin/R CMD check --install=check:enhancerHomologSearch.install-out.txt --library=/Library/Frameworks/R.framework/Resources/library --no-vignettes --timings enhancerHomologSearch_1.10.0.tar.gz StartedAt: 2024-10-17 04:47:28 -0400 (Thu, 17 Oct 2024) EndedAt: 2024-10-17 05:17:20 -0400 (Thu, 17 Oct 2024) EllapsedTime: 1791.8 seconds RetCode: 0 Status: OK CheckDir: enhancerHomologSearch.Rcheck Warnings: 0