Package: eisaR Version: 1.16.0 Command: E:\biocbuild\bbs-3.19-bioc\R\bin\R.exe CMD INSTALL eisaR StartedAt: 2024-10-16 16:18:57 -0400 (Wed, 16 Oct 2024) EndedAt: 2024-10-16 16:19:24 -0400 (Wed, 16 Oct 2024) EllapsedTime: 26.3 seconds RetCode: 0 Status: OK