Package: eisaR Version: 1.16.0 Command: /Library/Frameworks/R.framework/Resources/bin/R CMD build --keep-empty-dirs --no-resave-data eisaR StartedAt: 2024-10-16 18:56:51 -0400 (Wed, 16 Oct 2024) EndedAt: 2024-10-16 19:00:17 -0400 (Wed, 16 Oct 2024) EllapsedTime: 205.9 seconds RetCode: 0 Status: OK PackageFile: eisaR_1.16.0.tar.gz PackageFileSize: 1.715 MiB