Package: eisaR Version: 1.16.0 Command: /home/biocbuild/R/R-beta-2024-04-15_r86425/bin/R CMD build --keep-empty-dirs --no-resave-data eisaR StartedAt: 2024-05-09 00:03:58 -0000 (Thu, 09 May 2024) EndedAt: 2024-05-09 00:06:06 -0000 (Thu, 09 May 2024) EllapsedTime: 127.2 seconds RetCode: 0 Status: OK PackageFile: eisaR_1.16.0.tar.gz PackageFileSize: 1.593 MiB