Package: eiR Version: 1.44.0 Command: E:\biocbuild\bbs-3.19-bioc\R\bin\R.exe CMD INSTALL eiR StartedAt: 2024-10-16 17:14:40 -0400 (Wed, 16 Oct 2024) EndedAt: 2024-10-16 17:15:01 -0400 (Wed, 16 Oct 2024) EllapsedTime: 20.7 seconds RetCode: 0 Status: OK