Package: eiR Version: 1.44.0 Command: E:\biocbuild\bbs-3.19-bioc\R\bin\R.exe CMD check --no-multiarch --install=check:eiR.install-out.txt --library=E:\biocbuild\bbs-3.19-bioc\R\library --no-vignettes --timings eiR_1.44.0.tar.gz StartedAt: 2024-10-17 01:09:41 -0400 (Thu, 17 Oct 2024) EndedAt: 2024-10-17 01:12:31 -0400 (Thu, 17 Oct 2024) EllapsedTime: 170.3 seconds RetCode: 1 Status: ERROR CheckDir: eiR.Rcheck Warnings: NA