Package: eiR Version: 1.44.0 Command: F:\biocbuild\bbs-3.19-bioc\R\bin\R.exe CMD INSTALL eiR StartedAt: 2024-06-26 16:45:44 -0400 (Wed, 26 Jun 2024) EndedAt: 2024-06-26 16:46:03 -0400 (Wed, 26 Jun 2024) EllapsedTime: 18.4 seconds RetCode: 0 Status: OK