Package: eiR Version: 1.44.0 Command: rm -rf eiR.buildbin-libdir && mkdir eiR.buildbin-libdir && F:\biocbuild\bbs-3.19-bioc\R\bin\R.exe CMD INSTALL --build --library=eiR.buildbin-libdir eiR_1.44.0.tar.gz StartedAt: 2024-06-27 08:09:48 -0400 (Thu, 27 Jun 2024) EndedAt: 2024-06-27 08:10:14 -0400 (Thu, 27 Jun 2024) EllapsedTime: 25.5 seconds RetCode: 0 Status: OK PackageFile: eiR_1.44.0.zip PackageFileSize: 516.6 KiB