Package: eiR Version: 1.44.0 Command: /home/biocbuild/bbs-3.19-bioc/R/bin/R CMD INSTALL eiR StartedAt: 2024-10-16 16:41:05 -0400 (Wed, 16 Oct 2024) EndedAt: 2024-10-16 16:41:14 -0400 (Wed, 16 Oct 2024) EllapsedTime: 8.6 seconds RetCode: 0 Status: OK