Package: eiR Version: 1.44.0 Command: /home/biocbuild/bbs-3.19-bioc/R/bin/R CMD build --keep-empty-dirs --no-resave-data eiR StartedAt: 2024-10-16 18:19:20 -0400 (Wed, 16 Oct 2024) EndedAt: 2024-10-16 18:19:39 -0400 (Wed, 16 Oct 2024) EllapsedTime: 19.0 seconds RetCode: 0 Status: OK PackageFile: eiR_1.44.0.tar.gz PackageFileSize: 434 KiB