Package: eiR Version: 1.44.0 Command: /Library/Frameworks/R.framework/Resources/bin/R CMD build --keep-empty-dirs --no-resave-data eiR StartedAt: 2024-10-16 18:56:51 -0400 (Wed, 16 Oct 2024) EndedAt: 2024-10-16 18:57:53 -0400 (Wed, 16 Oct 2024) EllapsedTime: 62.4 seconds RetCode: 0 Status: OK PackageFile: eiR_1.44.0.tar.gz PackageFileSize: 447.4 KiB