Package: eiR Version: 1.44.0 Command: rm -rf eiR.buildbin-libdir && mkdir eiR.buildbin-libdir && /Users/biocbuild/BBS/utils/build-universal.sh eiR_1.44.0.tar.gz /Library/Frameworks/R.framework/Resources/bin/R eiR.buildbin-libdir StartedAt: 2024-10-17 16:05:31 -0400 (Thu, 17 Oct 2024) EndedAt: 2024-10-17 16:05:56 -0400 (Thu, 17 Oct 2024) EllapsedTime: 24.5 seconds RetCode: 0 Status: OK PackageFile: eiR_1.44.0.tgz PackageFileSize: 566 KiB