Package: eiR Version: 1.44.0 Command: /home/biocbuild/R/R-beta-2024-04-15_r86425/bin/R CMD check --install=check:eiR.install-out.txt --library=/home/biocbuild/R/R-beta-2024-04-15_r86425/site-library --no-vignettes --timings eiR_1.44.0.tar.gz StartedAt: 2024-05-09 07:04:40 -0000 (Thu, 09 May 2024) EndedAt: 2024-05-09 07:06:43 -0000 (Thu, 09 May 2024) EllapsedTime: 123.2 seconds RetCode: 0 Status: WARNINGS CheckDir: eiR.Rcheck Warnings: 1