Package: eiR Version: 1.44.0 Command: /Library/Frameworks/R.framework/Resources/bin/R CMD build --keep-empty-dirs --no-resave-data eiR StartedAt: 2024-06-09 21:03:30 -0400 (Sun, 09 Jun 2024) EndedAt: 2024-06-09 21:04:14 -0400 (Sun, 09 Jun 2024) EllapsedTime: 44.3 seconds RetCode: 0 Status: OK PackageFile: eiR_1.44.0.tar.gz PackageFileSize: 452.3 KiB