Package: eiR Version: 1.44.0 Command: rm -rf eiR.buildbin-libdir && mkdir eiR.buildbin-libdir && /Users/biocbuild/BBS/utils/build-universal.sh eiR_1.44.0.tar.gz /Library/Frameworks/R.framework/Resources/bin/R eiR.buildbin-libdir StartedAt: 2024-10-18 18:19:19 -0400 (Fri, 18 Oct 2024) EndedAt: 2024-10-18 18:19:33 -0400 (Fri, 18 Oct 2024) EllapsedTime: 14.7 seconds RetCode: 0 Status: OK PackageFile: eiR_1.44.0.tgz PackageFileSize: 571.2 KiB