Package: eiR Version: 1.44.0 Maintainer: Thomas Girke MaintainerEmail: thomas.girke at ucr.edu git_url: https://git.bioconductor.org/packages/eiR git_branch: RELEASE_3_19 git_last_commit: f29df21 git_last_commit_date: 2024-04-30 10:31:10 -0400 (Tue, 30 Apr 2024)