Package: eegc Version: 1.30.0 Command: E:\biocbuild\bbs-3.19-bioc\R\bin\R.exe CMD check --no-multiarch --install=check:eegc.install-out.txt --library=E:\biocbuild\bbs-3.19-bioc\R\library --no-vignettes --timings eegc_1.30.0.tar.gz StartedAt: 2024-10-17 01:08:59 -0400 (Thu, 17 Oct 2024) EndedAt: 2024-10-17 01:18:45 -0400 (Thu, 17 Oct 2024) EllapsedTime: 585.4 seconds RetCode: 0 Status: WARNINGS CheckDir: eegc.Rcheck Warnings: 2