Package: eegc Version: 1.30.0 Command: chmod a+r eegc -R && E:\biocbuild\bbs-3.19-bioc\R\bin\R.exe CMD build --keep-empty-dirs --no-resave-data eegc StartedAt: 2024-10-16 18:50:06 -0400 (Wed, 16 Oct 2024) EndedAt: 2024-10-16 18:54:32 -0400 (Wed, 16 Oct 2024) EllapsedTime: 266.1 seconds RetCode: 0 Status: OK PackageFile: eegc_1.30.0.tar.gz PackageFileSize: 9.36 MiB