Package: eegc Version: 1.30.0 Command: rm -rf eegc.buildbin-libdir && mkdir eegc.buildbin-libdir && E:\biocbuild\bbs-3.19-bioc\R\bin\R.exe CMD INSTALL --build --library=eegc.buildbin-libdir eegc_1.30.0.tar.gz StartedAt: 2024-10-17 07:44:15 -0400 (Thu, 17 Oct 2024) EndedAt: 2024-10-17 07:45:14 -0400 (Thu, 17 Oct 2024) EllapsedTime: 59.0 seconds RetCode: 0 Status: OK PackageFile: eegc_1.30.0.zip PackageFileSize: 10.58 MiB