Package: eegc Version: 1.30.0 Command: /Library/Frameworks/R.framework/Resources/bin/R CMD build --keep-empty-dirs --no-resave-data eegc StartedAt: 2024-10-16 18:56:22 -0400 (Wed, 16 Oct 2024) EndedAt: 2024-10-16 19:05:11 -0400 (Wed, 16 Oct 2024) EllapsedTime: 528.9 seconds RetCode: 0 Status: OK PackageFile: eegc_1.30.0.tar.gz PackageFileSize: 9.369 MiB