Package: eegc Version: 1.30.0 Command: /Library/Frameworks/R.framework/Resources/bin/R CMD build --keep-empty-dirs --no-resave-data eegc StartedAt: 2024-10-16 23:51:51 -0400 (Wed, 16 Oct 2024) EndedAt: 2024-10-16 23:56:16 -0400 (Wed, 16 Oct 2024) EllapsedTime: 265.5 seconds RetCode: 0 Status: OK PackageFile: eegc_1.30.0.tar.gz PackageFileSize: 9.365 MiB