Package: eegc Version: 1.30.0 Command: rm -rf eegc.buildbin-libdir && mkdir eegc.buildbin-libdir && /Users/biocbuild/BBS/utils/build-universal.sh eegc_1.30.0.tar.gz /Library/Frameworks/R.framework/Resources/bin/R eegc.buildbin-libdir StartedAt: 2024-10-18 18:19:01 -0400 (Fri, 18 Oct 2024) EndedAt: 2024-10-18 18:20:05 -0400 (Fri, 18 Oct 2024) EllapsedTime: 64.8 seconds RetCode: 0 Status: OK PackageFile: eegc_1.30.0.tgz PackageFileSize: 11.26 MiB