Package: eds Version: 1.6.0 Command: rm -rf eds.buildbin-libdir && mkdir eds.buildbin-libdir && /Users/biocbuild/BBS/utils/build-universal.sh eds_1.6.0.tar.gz /Library/Frameworks/R.framework/Resources/bin/R eds.buildbin-libdir StartedAt: 2024-10-17 16:05:12 -0400 (Thu, 17 Oct 2024) EndedAt: 2024-10-17 16:05:40 -0400 (Thu, 17 Oct 2024) EllapsedTime: 27.3 seconds RetCode: 0 Status: OK PackageFile: eds_1.6.0.tgz PackageFileSize: 257.7 KiB