Package: edgeR Version: 4.2.2 Command: E:\biocbuild\bbs-3.19-bioc\R\bin\R.exe CMD check --no-multiarch --install=check:edgeR.install-out.txt --library=E:\biocbuild\bbs-3.19-bioc\R\library --no-vignettes --timings edgeR_4.2.2.tar.gz StartedAt: 2024-10-17 01:08:47 -0400 (Thu, 17 Oct 2024) EndedAt: 2024-10-17 01:10:55 -0400 (Thu, 17 Oct 2024) EllapsedTime: 128.2 seconds RetCode: 0 Status: OK CheckDir: edgeR.Rcheck Warnings: 0