Package: edgeR Version: 4.2.2 Command: chmod a+r edgeR -R && E:\biocbuild\bbs-3.19-bioc\R\bin\R.exe CMD build --keep-empty-dirs --no-resave-data edgeR StartedAt: 2024-10-16 18:49:48 -0400 (Wed, 16 Oct 2024) EndedAt: 2024-10-16 18:51:55 -0400 (Wed, 16 Oct 2024) EllapsedTime: 126.7 seconds RetCode: 0 Status: OK PackageFile: edgeR_4.2.2.tar.gz PackageFileSize: 3.281 MiB