Package: edgeR Version: 4.2.2 Command: /Library/Frameworks/R.framework/Resources/bin/R CMD build --keep-empty-dirs --no-resave-data edgeR StartedAt: 2024-10-16 18:56:00 -0400 (Wed, 16 Oct 2024) EndedAt: 2024-10-16 18:59:09 -0400 (Wed, 16 Oct 2024) EllapsedTime: 189.3 seconds RetCode: 0 Status: OK PackageFile: edgeR_4.2.2.tar.gz PackageFileSize: 3.274 MiB