Package: edgeR Version: 4.2.2 Command: rm -rf edgeR.buildbin-libdir && mkdir edgeR.buildbin-libdir && /Users/biocbuild/BBS/utils/build-universal.sh edgeR_4.2.2.tar.gz /Library/Frameworks/R.framework/Resources/bin/R edgeR.buildbin-libdir StartedAt: 2024-10-17 16:05:08 -0400 (Thu, 17 Oct 2024) EndedAt: 2024-10-17 16:08:00 -0400 (Thu, 17 Oct 2024) EllapsedTime: 171.7 seconds RetCode: 0 Status: OK PackageFile: edgeR_4.2.2.tgz PackageFileSize: 2.728 MiB