Package: edgeR Version: 4.2.0 Command: /Library/Frameworks/R.framework/Resources/bin/R CMD build --keep-empty-dirs --no-resave-data edgeR StartedAt: 2024-06-09 16:33:15 -0400 (Sun, 09 Jun 2024) EndedAt: 2024-06-09 16:34:47 -0400 (Sun, 09 Jun 2024) EllapsedTime: 91.9 seconds RetCode: 0 Status: OK PackageFile: edgeR_4.2.0.tar.gz PackageFileSize: 3.273 MiB